BEGIN:VCALENDAR
VERSION:2.0
PRODID:-//Associazione Culturale Ganadora - ECPv6.2.6.1//NONSGML v1.0//EN
CALSCALE:GREGORIAN
METHOD:PUBLISH
X-ORIGINAL-URL:https://associazioneganadora.it
X-WR-CALDESC:Eventi per Associazione Culturale Ganadora
REFRESH-INTERVAL;VALUE=DURATION:PT1H
X-Robots-Tag:noindex
X-PUBLISHED-TTL:PT1H
BEGIN:VTIMEZONE
TZID:Europe/Rome
BEGIN:DAYLIGHT
TZOFFSETFROM:+0100
TZOFFSETTO:+0200
TZNAME:CEST
DTSTART:20210328T010000
END:DAYLIGHT
BEGIN:STANDARD
TZOFFSETFROM:+0200
TZOFFSETTO:+0100
TZNAME:CET
DTSTART:20211031T010000
END:STANDARD
END:VTIMEZONE
BEGIN:VEVENT
DTSTART;TZID=Europe/Rome:20210627T160000
DTEND;TZID=Europe/Rome:20210627T210000
DTSTAMP:20260421T122924
CREATED:20210624T091550Z
LAST-MODIFIED:20210624T092754Z
UID:1035-1624809600-1624827600@associazioneganadora.it
SUMMARY:Progetto Pulizia Spiagge - Barcellona Pozzo di Gotto (Spinesante)
DESCRIPTION:DOMENICA 27 GIUGNO ORE 16.00: PULIZIA SPIAGGE SPINESANTE\nL’Associazione culturale Ganadora é lieta di invitarvi all’evento Pulizia “Spiagge Spinesante” promossa dalle associazioni Credito Accademico\, Morgana e Sea lovers e patrocinata dal Comune di Barcellona P. G. \nA partire dalle ore 16.00 potrete trovarci in Via Spinesante\, dove daremo il nostro concreto contributo insieme ad altre Associazioni operanti sul terrotorio (Ass. Prom. Security\, Ganadora\, Mortellito fcd\, MUMA e SISO project). \n \nRingraziamo i ragazzi di “Ananasso” che provvederanno al beverage\, e tutti coloro i quali vorranno prendere parte all’iniziativa con il proprio personale contributo.
URL:https://associazioneganadora.it/evento/progetto-pulizia-spiagge-barcellona-pozzo-di-gotto-spinesante/
LOCATION:Spinesante\, Barcellona Pozzo di Gotto\, ME\, 98051\, Italia
CATEGORIES:Eventi
ATTACH;FMTTYPE=image/jpeg:https://associazioneganadora.it/wp-content/uploads/2021/06/progetto-pulizia-spiagge.jpg
ORGANIZER;CN="Ganadora Associazione Culturale":MAILTO:info@associazioneganadora.it
GEO:38.1472621;15.2128482
END:VEVENT
END:VCALENDAR